BEGIN:VCALENDAR
CALSCALE:GREGORIAN
VERSION:2.0
METHOD:PUBLISH
X-WR-CALNAME:KIKRI Jahreskalender
X-WR-TIMEZONE:Europe/Zurich
BEGIN:VTIMEZONE
TZID:Europe/Zurich
BEGIN:DAYLIGHT
TZOFFSETFROM:+0100
RRULE:FREQ=YEARLY;BYMONTH=3;BYDAY=-1SU
DTSTART:19810329T020000
TZNAME:MESZ
TZOFFSETTO:+0200
END:DAYLIGHT
BEGIN:STANDARD
TZOFFSETFROM:+0200
RRULE:FREQ=YEARLY;BYMONTH=10;BYDAY=-1SU
DTSTART:19961027T030000
TZNAME:MEZ
TZOFFSETTO:+0100
END:STANDARD
END:VTIMEZONE
BEGIN:VEVENT
UID:69eca2dbb81c3
DTEND;TZID=Europe/Zurich:20260324T190000
TRANSP:OPAQUE
SUMMARY:Ordentliche Generalversammlung
DTSTART;TZID=Europe/Zurich:20260324T190000
DTSTAMP:20260425T111747
SEQUENCE:0
END:VEVENT
BEGIN:VEVENT
UID:69eca2dbb8227
DTEND;TZID=Europe/Zurich:20260402T160000
TRANSP:OPAQUE
SUMMARY:Gründonnerstag, KIKRI schliesst früher
DTSTART;TZID=Europe/Zurich:20260402T160000
DTSTAMP:20260425T111747
SEQUENCE:0
END:VEVENT
BEGIN:VEVENT
UID:69eca2dbb8249
DTEND;VALUE=DATE:20260407
TRANSP:OPAQUE
SUMMARY:Ostern
DTSTART;VALUE=DATE:20260403
DTSTAMP:20260425T111747
SEQUENCE:0
DESCRIPTION:Karfreitag bis Ostermontag KIKRI geschlossen
END:VEVENT
BEGIN:VEVENT
UID:69eca2dbb825a
DTEND;VALUE=DATE:20260501
TRANSP:OPAQUE
SUMMARY:Tag der Arbeit, KIKRI geschlossen
DTSTART;VALUE=DATE:20260501
DTSTAMP:20260425T111747
SEQUENCE:0
DESCRIPTION:&nbsp;
END:VEVENT
BEGIN:VEVENT
UID:69eca2dbb8268
DTEND;TZID=Europe/Zurich:20260509T160000
TRANSP:OPAQUE
SUMMARY:Haus- und Hoftag
DTSTART;TZID=Europe/Zurich:20260509T100000
DTSTAMP:20260425T111747
SEQUENCE:0
END:VEVENT
BEGIN:VEVENT
UID:69eca2dbb8275
DTEND;TZID=Europe/Zurich:20260513T160000
TRANSP:OPAQUE
SUMMARY:Mittwoch vor Auffahrt, KIKRI schliesst früher
DTSTART;TZID=Europe/Zurich:20260513T160000
DTSTAMP:20260425T111747
SEQUENCE:0
END:VEVENT
BEGIN:VEVENT
UID:69eca2dbb8281
DTEND;VALUE=DATE:20260514
TRANSP:OPAQUE
SUMMARY:Auffahrt, KIKRI geschlossen
DTSTART;VALUE=DATE:20260514
DTSTAMP:20260425T111747
SEQUENCE:0
END:VEVENT
BEGIN:VEVENT
UID:69eca2dbb828d
DTEND;VALUE=DATE:20260525
TRANSP:OPAQUE
SUMMARY:Pfingstmontag, KIKRI geschlossen
DTSTART;VALUE=DATE:20260525
DTSTAMP:20260425T111747
SEQUENCE:0
END:VEVENT
BEGIN:VEVENT
UID:69eca2dbb8298
DTEND;VALUE=DATE:20260613
TRANSP:OPAQUE
SUMMARY:KIKRI Lager
DTSTART;VALUE=DATE:20260609
DTSTAMP:20260425T111747
SEQUENCE:0
DESCRIPTION:Für die älteren Kinder (nach Absprache)
END:VEVENT
BEGIN:VEVENT
UID:69eca2dbb82a3
DTEND;VALUE=DATE:20260622
TRANSP:OPAQUE
SUMMARY:Mösli Wochenende
DTSTART;VALUE=DATE:20260620
DTSTAMP:20260425T111747
SEQUENCE:0
DESCRIPTION:Für Eltern und Kinder
END:VEVENT
BEGIN:VEVENT
UID:69eca2dbb82ae
DTEND;VALUE=DATE:20260803
TRANSP:OPAQUE
SUMMARY:Sommerferien, KIKRI geschlossen
DTSTART;VALUE=DATE:20260720
DTSTAMP:20260425T111747
SEQUENCE:0
END:VEVENT
BEGIN:VEVENT
UID:69eca2dbb82b9
DTEND;TZID=Europe/Zurich:20260911T160000
TRANSP:OPAQUE
SUMMARY:Willkommensapéro für alle Eltern
DTSTART;TZID=Europe/Zurich:20260911T140000
DTSTAMP:20260425T111747
SEQUENCE:0
END:VEVENT
BEGIN:VEVENT
UID:69eca2dbb82c3
DTEND;VALUE=DATE:20261002
TRANSP:OPAQUE
SUMMARY:Weiterbildungstag Team, KIKRI geschlossen
DTSTART;VALUE=DATE:20261002
DTSTAMP:20260425T111747
SEQUENCE:0
END:VEVENT
BEGIN:VEVENT
UID:69eca2dbb82ce
DTEND;TZID=Europe/Zurich:20261119T160000
TRANSP:OPAQUE
SUMMARY:Räben schnitzen in der KIKRI
DTSTART;TZID=Europe/Zurich:20261119T140000
DTSTAMP:20260425T111747
SEQUENCE:0
END:VEVENT
BEGIN:VEVENT
UID:69eca2dbb82d8
DTEND;TZID=Europe/Zurich:20261120T180000
TRANSP:OPAQUE
SUMMARY:Räbeliechtliumzug
DTSTART;TZID=Europe/Zurich:20261120T180000
DTSTAMP:20260425T111747
SEQUENCE:0
DESCRIPTION:Treffpunkt: Stolzewiese
END:VEVENT
BEGIN:VEVENT
UID:69eca2dbb82e2
DTEND;VALUE=DATE:20270102
TRANSP:OPAQUE
SUMMARY:Weihnachtsferien, KIKRI geschlossen
DTSTART;VALUE=DATE:20261224
DTSTAMP:20260425T111747
SEQUENCE:0
END:VEVENT
BEGIN:VEVENT
UID:69eca2dbb82ed
DTEND;TZID=Europe/Zurich:20270205T093000
TRANSP:OPAQUE
SUMMARY:Fasnacht
DTSTART;TZID=Europe/Zurich:20270205T083000
DTSTAMP:20260425T111747
SEQUENCE:0
DESCRIPTION:Fasnachtszmorge für alle Eltern
END:VEVENT
BEGIN:VEVENT
UID:69eca2dbb82f7
DTEND;TZID=Europe/Zurich:20270317T190000
TRANSP:OPAQUE
SUMMARY:Ordentliche Generalversammlung
DTSTART;TZID=Europe/Zurich:20270317T190000
DTSTAMP:20260425T111747
SEQUENCE:0
END:VEVENT
BEGIN:VEVENT
UID:69eca2dbb8300
DTEND;TZID=Europe/Zurich:20270325T160000
TRANSP:OPAQUE
SUMMARY:Gründonnerstag, KIKRI schliesst früher
DTSTART;TZID=Europe/Zurich:20270325T160000
DTSTAMP:20260425T111747
SEQUENCE:0
END:VEVENT
BEGIN:VEVENT
UID:69eca2dbb830b
DTEND;VALUE=DATE:20270330
TRANSP:OPAQUE
SUMMARY:Ostern, KIKRI geschlossen
DTSTART;VALUE=DATE:20270326
DTSTAMP:20260425T111747
SEQUENCE:0
DESCRIPTION:Karfreitag bis einschliesslich Ostermontag
END:VEVENT
BEGIN:VEVENT
UID:69eca2dbb8315
DTEND;TZID=Europe/Zurich:20270505T160000
TRANSP:OPAQUE
SUMMARY:Mittwoch vor Auffahrt, KIKRI schliesst früher
DTSTART;TZID=Europe/Zurich:20270505T160000
DTSTAMP:20260425T111747
SEQUENCE:0
END:VEVENT
BEGIN:VEVENT
UID:69eca2dbb8322
DTEND;VALUE=DATE:20270506
TRANSP:OPAQUE
SUMMARY:Auffahrt, KIKRI geschlossen
DTSTART;VALUE=DATE:20270506
DTSTAMP:20260425T111747
SEQUENCE:0
END:VEVENT
BEGIN:VEVENT
UID:69eca2dbb832c
DTEND;VALUE=DATE:20270517
TRANSP:OPAQUE
SUMMARY:Pfingstmontag, KIKRI geschlossen
DTSTART;VALUE=DATE:20270517
DTSTAMP:20260425T111747
SEQUENCE:0
END:VEVENT
BEGIN:VEVENT
UID:69eca2dbb8337
DTEND;TZID=Europe/Zurich:20270529T160000
TRANSP:OPAQUE
SUMMARY:Haus- und Hoftag
DTSTART;TZID=Europe/Zurich:20270529T100000
DTSTAMP:20260425T111747
SEQUENCE:0
END:VEVENT
BEGIN:VEVENT
UID:69eca2dbb8342
DTEND;VALUE=DATE:20270612
TRANSP:OPAQUE
SUMMARY:KIKRI Lager
DTSTART;VALUE=DATE:20270608
DTSTAMP:20260425T111747
SEQUENCE:0
DESCRIPTION:Für die älteren Kinder (nach Absprache)
END:VEVENT
BEGIN:VEVENT
UID:69eca2dbb834c
DTEND;VALUE=DATE:20270621
TRANSP:OPAQUE
SUMMARY:Mösli Wochende
DTSTART;VALUE=DATE:20270619
DTSTAMP:20260425T111747
SEQUENCE:0
DESCRIPTION:Für Eltern und Kinder Alternativdatum: 3./4.7.27
END:VEVENT
BEGIN:VEVENT
UID:69eca2dbb8356
DTEND;VALUE=DATE:20270807
TRANSP:OPAQUE
SUMMARY:Sommerferien, KIKRI geschlossen
DTSTART;VALUE=DATE:20270726
DTSTAMP:20260425T111747
SEQUENCE:0
END:VEVENT
END:VCALENDAR
